BEGIN:VCALENDAR
VERSION:2.0
PRODID:-//Element Training Complex - ECPv5.10.0//NONSGML v1.0//EN
CALSCALE:GREGORIAN
METHOD:PUBLISH
X-WR-CALNAME:Element Training Complex
X-ORIGINAL-URL:https://elementrange.com
X-WR-CALDESC:Events for Element Training Complex
BEGIN:VTIMEZONE
TZID:UTC
BEGIN:STANDARD
TZOFFSETFROM:+0000
TZOFFSETTO:+0000
TZNAME:UTC
DTSTART:20260101T000000
END:STANDARD
END:VTIMEZONE
BEGIN:VEVENT
DTSTART;TZID=UTC:20260509T080000
DTEND;TZID=UTC:20260509T170000
DTSTAMP:20260422T103938
CREATED:20251031T143652Z
LAST-MODIFIED:20251031T143653Z
UID:2658-1778313600-1778346000@elementrange.com
SUMMARY:ERPS USPSA Match at Element Training Complex 05-09-2026
DESCRIPTION:Registration opens on: April 01\, 2026 @ 12:00 AM · Registration closes on: May 08\, 2026 @ 6:00 PM\nTimes are local to America/Chicago timezone.\n\nMatch starts: May 09\, 2026 @ 9:00 AM · Match ends: May 09\, 2026 @ 2:00 PM\n\nLocation:\n4418 Cooper Lane\nHolt\, FL 32564\n\n***If the match is full\, sign up and show up to the match. We will place you on a squad.***\n\nWhat: Level 1 USPSA Match held IAW USPSA Competition Rules. Match will consist of 5 stages and 1 classifier stage. The cost is $35 for the first gun and an additional $20 if you plan on shooting a second gun.\n\nWhen: 09 May 2026 at 9:00 A.M. Check-in will begin at 7:30 A.M.\, new shooters meeting at 8:25 A.M.\, and Match/Safety Meeting at 8:45 A.M. Bullets downrange at 9:00 A.M.\n\nWhere: Element Training Complex/4418 Cooper Lane Holt\, FL 32564\n(850) 537-4576\nNorthwest Florida’s Premier Shooting & Training Facility\n***Our matches will now take place in the bays near the 1\,000-yard range. Upon entering the range\, turn right at the Pro Shop. Follow the road and turn right at the first open gate. Follow the road to the “Pole Barn”. We will also have signs guiding you to the match.***\n\nWhy: To promote and compete in the Practical Shooting Sports\n\nWho: Hosted by Escambia River Practical Shooters\, Inc. (ERPS) @erpsuspsa\n\n\nSpecial thanks to our sponsors:\nMantis (@mantis_tech)\nHunters HD Gold (@huntershdgold)\nStarline Brass (@starlinebrass)\nLOKGRIPS (@lokgrips)\nRange Panda (@rangepanda2a)\nChappy Tactical & Firearms\, LLC (@chappytactical)\n\nFollow us @erpsuspsa\n\n\nDonnie Chapman\, President\nEscambia River Practical Shooters\, Inc.\n(618)558-1229\n\n \n\nCLICK HERE TO REGISTER
URL:https://elementrange.com/event/erps-uspsa-match-at-element-training-complex-05-09-2026/
LOCATION:Element Training Complex
END:VEVENT
BEGIN:VEVENT
DTSTART;TZID=UTC:20260509T080000
DTEND;TZID=UTC:20260509T170000
DTSTAMP:20260422T103938
CREATED:20251222T201733Z
LAST-MODIFIED:20251222T201735Z
UID:2757-1778313600-1778346000@elementrange.com
SUMMARY:ERPS USPSA Match at Element Training Complex
DESCRIPTION:Registration opens on: April 01\, 2026 @ 12:00 AM · Registration closes on: May 08\, 2026 @ 6:00 PM\nTimes are local to America/Chicago timezone.\n\nMatch starts: May 09\, 2026 @ 9:00 AM · Match ends: May 09\, 2026 @ 2:00 PM\n\nLocation:\n4418 Cooper Lane\nHolt\, FL 32564\n\n***If the match is full\, sign up and show up to the match. We will place you on a squad.***\n\nWhat: Level 1 USPSA Match held IAW USPSA Competition Rules. Match will consist of 5 stages and 1 classifier stage. The cost is $35 for the first gun and an additional $20 if you plan on shooting a second gun.\n\nWhen: 09 May 2026 at 9:00 A.M. Check-in will begin at 7:30 A.M.\, new shooters meeting at 8:25 A.M.\, and Match/Safety Meeting at 8:45 A.M. Bullets downrange at 9:00 A.M.\n\nWhere: Element Training Complex/4418 Cooper Lane Holt\, FL 32564\n(850) 537-4576\nNorthwest Florida’s Premier Shooting & Training Facility\n***Our matches will now take place in the bays near the 1\,000-yard range. Upon entering the range\, turn right at the Pro Shop. Follow the road and turn right at the first open gate. Follow the road to the “Pole Barn”. We will also have signs guiding you to the match.***\n\nWhy: To promote and compete in the Practical Shooting Sports\n\nWho: Hosted by Escambia River Practical Shooters\, Inc. (ERPS) @erpsuspsa\n\n\nSpecial thanks to our sponsors:\nMantis (@mantis_tech)\nHunters HD Gold (@huntershdgold)\nStarline Brass (@starlinebrass)\nLOKGRIPS (@lokgrips)\nRange Panda (@rangepanda2a)\nChappy Tactical & Firearms\, LLC (@chappytactical)\n\nFollow us @erpsuspsa\n\n\nDonnie Chapman\, President\nEscambia River Practical Shooters\, Inc.\n(618)558-1229\n\nView Squadding\n\nUSPSA level I match\,\n\n 	Price:\n 	$35.00\n\n \n\nCLICK HERE TO REGISTER
URL:https://elementrange.com/event/erps-uspsa-match-at-element-training-complex-2/
LOCATION:Element Training Complex
END:VEVENT
BEGIN:VEVENT
DTSTART;TZID=UTC:20260522T093000
DTEND;TZID=UTC:20260522T160000
DTSTAMP:20260422T103938
CREATED:20260108T171254Z
LAST-MODIFIED:20260108T171256Z
UID:2777-1779442200-1779465600@elementrange.com
SUMMARY:BARREL & HATCHET Contender Carbine – (5/22/2026)
DESCRIPTION:The Contender Carbine Course covers the fundamentals of Carbine marksmanship and handling. There will be a heavy focus on performance and accuracy of the rifle. You will learn everything from different rifle carries and sling manipulation\, to reloads and malfunction clearances and how to accurately engage targets utilizing different types of props/ barricades.  By the end of this course\, you will have the foundation to be an asset with your carbine and engage targets more effectively while being a safe and effective asset to your team.\n\n \n\n \n\nCourse Materials Provided by Instructor\n\n \n\n \n\n \n\n 	\n\n 	Safety Briefing\n\n\n\n \n\n \n\n 	\n\n 	Tape\n\n\n\n \n\n \n\n 	\n\n 	Shot timers\n\n\n\n \n\n \n\n 	\n\n 	Steel TGTS\n\n\n\n \n\n \n\n 	\n\n 	Paint\n\n\n\n \n\n \n\n 	\n\n 	Targets\n\n\n\n \n\n \n\n \n\nCourse Materials Provided by Student\n\n \n\n \n\n \n\n 	\n\n 	Any semi automatic rifle/ carbine.\n\n\n\n \n\n \n\n 	\n\n 	Minimum of 450 rounds of weapon appropriate ammunition\n\n\n\n \n\n \n\n 	\n\n 	3-4 magazines\n\n\n\n \n\n \n\n 	\n\n 	Approved hearing protection\n\n\n\n \n\n \n\n 	\n\n 	Approved eye protection\n\n\n\n \n\n \n\n 	\n\n 	Two Point Sling\n\n\n\n \n\n \n\n 	\n\n 	Sighting System (IRON SIGHTS\, LPVO\, RED DOT\, PRISM i.e. ACOG)\n\n\n\n \n\n \n\n 	\n\n 	Water\,\n\n\n\n \n\n \n\n 	\n\n 	Lunch/ Snacks\n\n\n\n \n\n \n\n 	\n\n 	Permanent Marker\n\n\n\n \n\n \n\n \n\nIMPORTANT NOTE:\n\n \n\n \n\nAll Students must bring $40 Cash to cover the Range fees/ Any student that does not have cash the day of the class will be able to pay with their card via our card reader. Depending on the facility\, students may also check in with the front office area and pay the range the fee directly\n\n \n\n \n\nPlease bring lunch and snacks\, we do not have a lunch break in our courses\, we allow the student to eat as we move along with instruction throughout the day. We do not want to waste your time. We want to ensure that all the time we have together is devoted towards your training!\n\n \n\n \n\n****BE ADVISED****\n\n \n\n \n\nTHERE ARE NO REFUNDS WITH ANY BHTG COURSES\, ALL SALES ARE FINAL. ANY STUDENT THAT IS NOT ABLE TO MAKE CLASS AND WANTS TO TRANSFER TO A DIFFERENT CLASS ON ANOTHER DATE MUST EMAIL US AT LEAST 24 HOURS OUT. IF THERE IS A FAILURE TO NOTIFY US OF AN ABSENCE OR INABILITY TO MAKE THE CLASS\, THAT SLOT IS NON TRANSFERRABLE!\n\n \n\n \n\nA NOTE TO LIFETIME MEMBERS\n\n \n\n \n\nYOUR CLASS CREDIT CANNOT BE USED FOR SPECIAL EVENTS(I.E.-RETREAT\, SYMPOSIUMS\, AND COLLABORATION COURSES WITH OUTSIDE INSTRUCTORS). YOUR YEARLY CREDIT CAN BE APPLIED TO BARREL&HATCHET CURRICULUM COURSES ONLY.\n\n \n\n \n\nCLICK HERE TO REGISTER
URL:https://elementrange.com/event/barrel-hatchet-contender-carbine-5-22-2026/
LOCATION:Element Training Complex
END:VEVENT
BEGIN:VEVENT
DTSTART;TZID=UTC:20260522T160000
DTEND;TZID=UTC:20260522T200000
DTSTAMP:20260422T103938
CREATED:20260108T171512Z
LAST-MODIFIED:20260108T171513Z
UID:2780-1779465600-1779480000@elementrange.com
SUMMARY:BARREL & HATCHET Guardian Casualty Response
DESCRIPTION:Course Description\nTodd Angell is the founder of Guardian Angell Consulting\, which partnered with Barrel\nand Hatchet Trade Group in 2023 to provide medical training to the B&amp;H community.\nTodd is the lead instructor for Guardian Casualty Response Course. This course\nfocuses on training responsible citizens to have a knowledge and skill-base for\nproviding emergency medical aid. The course provides decades of experience-based\,\nevidence-based medical training to non-medical citizens.\n\nThis course was born following the Orlando\, Florida terrorist attack in 2016\, which took\nthe lives of 49 Americans and injured over 50 more. This class is the down and dirty\nmedical training\, required to save a life for the most common cause of death for\nAmericans age 1-44\, Trauma.\n\n \nWho is Todd Angell\nTodd comes from a deep-rooted\, pre-hospital medical career. Todd started his journey\nas a United States Navy Corpsman\, attached with the United States Marine Corps\ninfantry. Completing two deployments as a Corpsman\, he is well-versed in combat\nmedicine. On his second deployment\, Todd received the nation’s third highest award for\nvalor\, the Silver Star\, while serving as Corpsman for 1 st BN\, 8 th Marines\, Weapons\nCompany.\n\nUpon honorable discharge\, Todd began his civilian career as a firefighter/paramedic for\na large\, metro fire department in Florida. Todd also taught paramedic school for 3 years\,\nbefore working his way to his new job as a Flight Paramedic. Todd flies for a level 1\nTrauma Center\, taking care of the most critically injured and ill patients in Southwest\nFlorida.\n\nTodd firmly believes in sharing knowledge and experience with his community\,\nto make us all-around better.\nTodd firmly believes that we are Never Hopeless\, Numquam Desperato.\nTodd Angell’s credentials\n \n\n \n\nCLICK HERE TO REGISTER
URL:https://elementrange.com/event/barrel-hatchet-guardian-casualty-response-2/
LOCATION:Barrel & Hatchet Trade Group
END:VEVENT
BEGIN:VEVENT
DTSTART;TZID=UTC:20260523T093000
DTEND;TZID=UTC:20260523T160000
DTSTAMP:20260422T103938
CREATED:20260108T171700Z
LAST-MODIFIED:20260108T171701Z
UID:2783-1779528600-1779552000@elementrange.com
SUMMARY:BARREL & HATCHET Contender Pistol
DESCRIPTION:The Barrel & Hatchet Contender Pistol Course introduces the students to the knowledge\, skills and attitude necessary for owning\, using\, and defending themselves with a red dot\, or iron sight pistol safely.  Throughout the course\, students will learn about red dot characteristics\, how to zero a red dot sight\, and methods to consistently “Find the Dot.” Students running iron sights will learn proper fundamentals and quick ways to achieve sight alignment. The course builds the foundation for a 4 stage draw\, mastering smooth footwork and proper stance. Students will also be confident in their weapons handling abilities and be able to maneuver safely in any environment. This course will also have multiple dynamic drills designed to reinforce the skills learned by the student. This course builds a strong foundation in the fundamentals and gives the student the confidence and ability to be an asset with their pistol skills in any run & gun scenario.\n\n \n\n \n\nCourse Materials Provided by Instructor\n\n \n\n \n\n \n\n 	\n\n 	Safety Briefing\n\n\n\n \n\n \n\n 	\n\n 	Tape\n\n\n\n \n\n \n\n 	\n\n 	Shot timers\n\n\n\n \n\n \n\n 	\n\n 	Steel TGTS\n\n\n\n \n\n \n\n 	\n\n 	Paint\n\n\n\n \n\n \n\n 	\n\n 	Targets\n\n\n\n \n\n \n\n \n\nCourse Materials Provided by Student\n\n \n\n \n\n \n\n 	\n\n 	Any semi automatic pistol\n\n\n\n \n\n \n\n 	\n\n 	Minimum of 500 rounds of weapon appropriate ammunition\n\n\n\n \n\n \n\n 	\n\n 	3-4 magazines\n\n\n\n \n\n \n\n 	\n\n 	Magazine Pouch or pocket capable of holding mags\n\n\n\n \n\n \n\n 	\n\n 	Approved hearing protection\n\n\n\n \n\n \n\n 	\n\n 	Approved eye protection\n\n\n\n \n\n \n\n 	\n\n 	OWB Holster – No leather\, nylon\, or BLACKHAWK Serpa.\n\n\n\n \n\n \n\n 	\n\n 	Holster must match pistol\n\n\n\n \n\n \n\n 	\n\n 	Lunch/ Snacks\n\n\n\n \n\n \n\n 	\n\n 	Permanent Marker\n\n\n\n \n\n \n\n \n\nIMPORTANT NOTE:\n\n \n\n \n\nAll Students must bring $40 Cash to cover the Range fees/ Any student that does not have cash the day of the class will be able to pay with their card via our card reader. Depending on the facility\, students may also check in with the front office area and pay the range the fee directly.\n\n \n\n \n\nPlease bring lunch and snacks\, we do not have a lunch break in our courses\, we allow the student to eat as we move along with instruction throughout the day. We do not want to waste your time. We want to ensure that all the time we have together is devoted towards your training!\n\n \n\n \n\n****BE ADVISED****\n\n \n\n \n\nTHERE ARE NO REFUNDS WITH ANY BHTG COURSES\, ALL SALES ARE FINAL. ANY STUDENT THAT IS NOT ABLE TO MAKE CLASS AND WANTS TO TRANSFER TO A DIFFERENT CLASS ON ANOTHER DATE MUST EMAIL US AT LEAST 24 HOURS OUT. IF THERE IS A FAILURE TO NOTIFY US OF AN ABSENCE OR INABILITY TO MAKE THE CLASS\, THAT SLOT IS NON TRANSFERRABLE!\n\n \n\n \n\nA NOTE TO LIFETIME MEMBERS\n\n \n\n \n\nYOUR CLASS CREDIT CANNOT BE USED FOR SPECIAL EVENTS(I.E.-RETREAT\, SYMPOSIUMS\, AND COLLABORATION COURSES WITH OUTSIDE INSTRUCTORS). YOUR YEARLY CREDIT CAN BE APPLIED TO BARREL&HATCHET CURRICULUM COURSES ONLY.\n\n \n\nCLICK HERE TO REGISTER
URL:https://elementrange.com/event/barrel-hatchet-contender-pistol/
LOCATION:Element Training Complex
END:VEVENT
END:VCALENDAR