BEGIN:VCALENDAR
VERSION:2.0
PRODID:-//Element Training Complex - ECPv5.10.0//NONSGML v1.0//EN
CALSCALE:GREGORIAN
METHOD:PUBLISH
X-WR-CALNAME:Element Training Complex
X-ORIGINAL-URL:https://elementrange.com
X-WR-CALDESC:Events for Element Training Complex
BEGIN:VTIMEZONE
TZID:UTC
BEGIN:STANDARD
TZOFFSETFROM:+0000
TZOFFSETTO:+0000
TZNAME:UTC
DTSTART:20250101T000000
END:STANDARD
END:VTIMEZONE
BEGIN:VEVENT
DTSTART;TZID=UTC:20250405T080000
DTEND;TZID=UTC:20250405T170000
DTSTAMP:20260422T090844
CREATED:20250228T192804Z
LAST-MODIFIED:20250228T192805Z
UID:2359-1743840000-1743872400@elementrange.com
SUMMARY:ERPS USPSA
DESCRIPTION:Match starts: April 05\, 2025 @ 9:00 AM · Match ends: April 05\, 2025 @ 2:00 PM\n\nLocation:\n4418 Cooper Lane\nHolt\, FL 32564\n\nWhat: Level 1 USPSA Match held IAW USPSA Competition Rules. Match will consist of 5 stages and 1 classifier stage. The cost is $35 for the first gun and an additional $15 if you plan on shooting a second gun.\n\nWhen: 5 April 2025 at 9:00 A.M. Check-in will begin at 7:30 A.M.\, new shooters meeting at 8:30 A.M. and Match/Safety Meeting at 8:45 A.M. Bullets downrange 9:00 A.M.\n\nWhere: Element Training Complex/4418 Cooper Lane Holt\, FL 32564\n(850) 537-4576\nNorthwest Florida’s Premier Shooting & Training Facility\n**Upon entering the range\, you will take a right at the Pro Shop and continue on the road until you come to a “Stop” sign and see the Copperhead long range on your right. Continue straight from the “Stop” sign until you enter the “B Complex/Blue Zone”. Check-in/Registration will be held in the classroom.**\n\nWhy: To promote and compete in the Practical Shooting Sports\n\nWho: Hosted by Escambia River Practical Shooters\, Inc. (ERPS)\n\n\nSpecial thanks to our sponsors:\nMantis (@mantis_tech)\nHunters HD Gold (@huntershdgold)\nStarline Brass (@starlinebrass)\nLOKGRIPS (@lokgrips)\nRange Panda (@rangepanda2a)\nChappy Tactical & Firearms\, LLC (@chappytactical)\n\n\n\nDonnie Chapman\, President\nEscambia River Practical Shooters\, Inc.\n(618)558-1229\n\nView Squadding\n\nUSPSA level I match\,\n\n 	Price:\n 	$35.00\n\n \n\nCLICK HERE TO REGISTER
URL:https://elementrange.com/event/erps-uspsa-3/
LOCATION:Element Training Complex
END:VEVENT
BEGIN:VEVENT
DTSTART;TZID=UTC:20250405T080000
DTEND;TZID=UTC:20250405T170000
DTSTAMP:20260422T090844
CREATED:20250228T194434Z
LAST-MODIFIED:20250228T194435Z
UID:2368-1743840000-1743872400@elementrange.com
SUMMARY:5th ANNUAL BOY SCOUT SHOOT
DESCRIPTION:5th ANNUAL GULF COAST COUNCIL “BSA” Sporting Clays Classic “FUNDRAISER” on Saturday\, April 5th from 8:00 AM until 2:00 PM. Morning Flight. 1) Note Early Registration by 4/01 guarantees lunch. 2) Walk-ups on Saturday are welcome to support scouting! Registration/ Continental Breakfast – 8 AM. Mandatory Safety Brief\, 9 AM. Walkthrough with Team Leaders 9 AM. Shotgun Start 9:45 AM. Lunch\, Auction\, and Awards Banquet 12:00 PM Post Awards Ceremony. Optional Five Stand Competition – 1:30 PM. Entry Deadline: April 5th\, 2025. Shooters MUST provide their own gun & ammo. *Ammo will be available for purchase while supplies last. For additional information and sponsorship opportunities\, please contact:\nEmail: Sara.Lewis@Scouting.org Call: 850.974.0287\n\nCLICK HERE TO REGISTER
URL:https://elementrange.com/event/5th-annual-boy-scout-shoot/
LOCATION:Element Training Complex
END:VEVENT
BEGIN:VEVENT
DTSTART;TZID=UTC:20250411T080000
DTEND;TZID=UTC:20250411T170000
DTSTAMP:20260422T090844
CREATED:20240924T192646Z
LAST-MODIFIED:20240924T192719Z
UID:2196-1744358400-1744390800@elementrange.com
SUMMARY:JBS Training Group - Scoped Gas Gun Clinic
DESCRIPTION:The Scoped Gas Gun clinic can be taken as a standalone course or added to a 2-day Performance Pistol or American Gas Gun course. This is an intermediate to advanced level course designed for shooters who have completed basic gas gun training and are looking to enhance their skills with magnified optics. This clinic focuses on the effective use of magnified optics\, reticles\, and engaging targets at distance from a variety of shooting positions. Cost: $350 or added to Performance Pistol for $280 Course details:\n\nBuilding reliable and repeatable shooting positions\nUnderstanding principles of stability\nConfirming zero and making necessary adjustments\nEngaging targets from barricaded positions\, to include tripods\nManaging magnification on targets\nConducting timed drills\nPrecision shooting at speed\nLearning how to gain speed in precision shooting and how to train\n\nGear:\n\nRecommended 200 rounds of quality match ammunition\nSemi-automatic carbine with a variable power magnified optic (5.56/.223 caliber minimum)\nSling\, bipod\, and stability bag for support\nNote-taking materials\, rifle cleaning kit\, and shooting mat\nWater\, food\, and seasonally appropriate clothing\n\nRecommended but not required:\n\nLaser range finder\nshooting tripod\nspotting scope\nbinoculars\n\n\n  \nCLICK HERE TO REGISTER\n\n\n\n\n\n\n\n\n\n 
URL:https://elementrange.com/event/jbs-training-group-scoped-gas-gun-clinic/
LOCATION:Element Training Complex
ORGANIZER;CN="JBS%20Training%20Group":MAILTO:jbstraininggroup@gmail.com
END:VEVENT
BEGIN:VEVENT
DTSTART;TZID=UTC:20250412T080000
DTEND;TZID=UTC:20250412T170000
DTSTAMP:20260422T090844
CREATED:20250228T192921Z
LAST-MODIFIED:20250228T192922Z
UID:2362-1744444800-1744477200@elementrange.com
SUMMARY:ERPS Steel Challenge Match
DESCRIPTION:Match starts: April 12\, 2025 @ 9:00 AM · Match ends: April 12\, 2025 @ 1:00 PM\n\nLocation:\n4418 Cooper Lane\nHolt\, FL 32564\n\nBLUF: Steel Challenge Match being held on 12 April 2025 at Element Training Complex in Holt\, FL. Check-in will start at 0730 with rounds downrange by 0900. $25 for the first firearm and $15 for each additional firearm.\n\nWHAT: Level 1\, Sanctioned Steel Challenge Match\, Hosted By ERPS\n\nWHERE: Element Training Complex\n4418 Cooper Ln\nHolt\, FL 32564\nNorthwest Florida’s Premier Shooting & Training Facility\n\nWHEN: 8 February 2025\nCheck-in: 0730-0830\nNew to Steel Challenge Briefing: 0830\nSafety Brief/Rollcall: 0845\nMatch kickoff: 0900\n\nCOST: $25 for the first firearm and $15 each additional firearm\n\nSee you at the range!\n\nDonnie Chapman\nEscambia River Practical Shooters Match Director\n(618)558-1229\n\nView Squadding\n\nSteel Challenge: Default match\,\n\n 	Price:\n 	$25.00\n\nCLICK HERE TO REGISTER
URL:https://elementrange.com/event/erps-steel-challenge-match-2/
LOCATION:Element Training Complex
END:VEVENT
BEGIN:VEVENT
DTSTART;TZID=UTC:20250412T080000
DTEND;TZID=UTC:20250413T170000
DTSTAMP:20260422T090844
CREATED:20240924T193019Z
LAST-MODIFIED:20240924T193041Z
UID:2201-1744444800-1744563600@elementrange.com
SUMMARY:JBS Training Group - Performance Pistol
DESCRIPTION:2 Day Performance Handgun is designed with the intention of correcting flaws in mechanics\, manipulations\, marksmanship\, movement\, and processing. This is not a beginner’s course. Attendees should have basic knowledge of weapon safety/handling\, and at minimum\, be able to hit the A zone of a full-sized IPSC silhouette at 15 yards with no time standard. Students will leave with the tools necessary to continue their journey on being the best handgun shooter they can be. Cost: $550 per student (Plus any applicable range fees) If you would also like to attend the Scoped Gas Gun Clinic\, make sure to also register here. Topics Covered \n\nSafety and handling\nGear selection\nGear set up\nThe difference in operating systems and the benefits/drawbacks of each\nDry fire practice and how to maximize return when practicing\nZeroing (if applicable)\nAiming how’s and why’s of different sight pictures\nTrigger manipulation\nManaging recoil\nTarget transitions and processing\nReloading\nSingle-hand shooting and manipulation\nThe Draw\nMental Discipline Applied to the Gun\nGrip/Stance\nSpeed and where it comes from\nShot Calling\nMechanics/Manipulations\nMovement\n\nGear Required \n\nRecommended 1000 Rounds of Quality Ammunition (bring more if you want to shoot more)\nCompetition/Duty Handgun (No subcompacts/revolvers)*\nMinimum of 3 Magazines\nPouches for magazines (Preferably 2 pouches on the body)\nEye and Ear Protection (Electronic Ears Preferred)\nCompetition/Duty Grade Holster (NO FABRIC HOLSTERS ALLOWED)\nHydration and snacks for the day\nRain gear as applicable\nNotebook and writing utensil\n\n*Course may be run from concealment if student desires. In such case\, one mag pouch is sufficient and other mags can be placed in pockets\, etc. CANCELLATION // REFUND POLICY Payment must be made in full for desired training sessions. Lessons will not be refunded unless JBS Training Group needs to cancel for an unforeseen reason.   CLICK HERE TO REGISTER \n\n\n\n\n\n\n\n\n\n 
URL:https://elementrange.com/event/jbs-training-group-performance-pistol/
LOCATION:Element Training Complex
ORGANIZER;CN="JBS%20Training%20Group":MAILTO:jbstraininggroup@gmail.com
END:VEVENT
BEGIN:VEVENT
DTSTART;TZID=UTC:20250417T180000
DTEND;TZID=UTC:20250417T210000
DTSTAMP:20260422T090844
CREATED:20250319T141023Z
LAST-MODIFIED:20250319T141034Z
UID:2411-1744912800-1744923600@elementrange.com
SUMMARY:Emergency First Aid for Gunshot Wounds
DESCRIPTION:Event Details\n\n\n\nFirst Aid for Gunshot Wounds\nWhen seconds matter\, knowing how to respond to a gunshot wound can be the difference between life or death. Join us for the First Aid for Gunshot Wounds Seminar and learn essential skills that could save a life. This hands-on training includes:\n\nMethods to treat a gunshot wound effectively\nTechniques to control bleeding in critical situations\nLive instruction from experienced first-aid instructors\nCertification upon course completion\n\nDon’t wait-be prepared to make a difference in a life-threatening situation. The information provided herein is solely an overview intended to provide general information and should not be considered medical or legal advice. The content is offered “as is” without any representations or warranties\, express or implied. The First Aid for Gunshot Wounds course is not intended as a substitute for professional medical consultation\, treatment\, or diagnosis. Always consult a professionally trained expert as soon as possible. U.S. LawShield® does not guarantee or promise a specific outcome. All liability is disclaimed. Additional terms apply\, please visit www.uslawshield.com and consult the course site for more information.\nCLICK HERE TO REGISTER \n\n\n\n\n\n\n\n\n\n 
URL:https://elementrange.com/event/emergency-first-aid-for-gunshot-wounds-reserve-your-seat/
LOCATION:Element Training Complex
ORGANIZER;CN="U.S.%20Law%20Shield":MAILTO:seminars@uslawshield.com
END:VEVENT
BEGIN:VEVENT
DTSTART;TZID=UTC:20250425T080000
DTEND;TZID=UTC:20250425T170000
DTSTAMP:20260422T090844
CREATED:20250228T195425Z
LAST-MODIFIED:20250228T195426Z
UID:2378-1745568000-1745600400@elementrange.com
SUMMARY:Florida Sheriffs Youth Ranches Clay Shoot
DESCRIPTION:Join Us!\n\n\n Join Sheriff Eric Aden and the OCSO Sheriff’s Star Charity on Friday\, April 25\, 2025\, for an exciting day of marksmanship and camaraderie at the Florida Sheriffs Youth Ranches Clay Shoot Fundraiser! The event will take place at The Oaks Sporting Clay Range at the Element Training Complex\, located at 4418 Cooper Lane\, Holt\, Florida.\n\nChoose from two flights: register for the morning flight starting at 9:00 a.m. or the afternoon flightat 1:30 p.m. Registration is $600 per 4-person team. Don’t miss this opportunity to support a great cause while enjoying a thrilling day on the range!\n\n\nCLICK HERE TO REGISTER
URL:https://elementrange.com/event/florida-sheriffs-youth-ranches-clay-shoot/
LOCATION:Element Training Complex
END:VEVENT
BEGIN:VEVENT
DTSTART;TZID=UTC:20250425T080000
DTEND;TZID=UTC:20250427T170000
DTSTAMP:20260422T090844
CREATED:20250228T195154Z
LAST-MODIFIED:20250228T195155Z
UID:2374-1745568000-1745773200@elementrange.com
SUMMARY:Cheat Codes of Shooting™ 3-Day Workshop
DESCRIPTION:The Cheat Codes of Shooting™ Workshop is a unique three-day event inspired by our popular Cheat Codes of Shooting™ series of classes. The workshop teaches you to hit whatever you aim at with accuracy\, speed\, and consistency. We’ll hold these workshops in select locations that we visit only once a year.\n\nFor the first time\, we are offering all three classes back-to-back as a workshop that will make you noticeably faster and more accurate. The series is unique because we teach the principles behind modern-day shooting techniques\, and we share the cheat codes we’ve learned from training with numerous instructors.\n\nWe’ve done all the hard work for you. We’ve combined our experience with the best approaches\, methodologies\, and techniques\, and have organized everything in a way that will shortcut your learning curve.\n\nThe Cheat Codes of Shooting™ workshop will make you a much more knowledgeable and capable shooter from the ground up!\nFrequently Asked Questions\nWho is this class designed for?\nThe class is designed for beginner to advanced shooters who want to improve their shooting skills.\nHow much does the workshop cost?\nStandard: $1050\nWhat topics are covered?\nThroughout 3-days\, you will learn a ton! Here are the main topics:\n\n 	Universal shooting principles\n 	Core skills refinement: stance\, grip\, sight alignment\, sight picture\, trigger control\, breathing\, and follow-through\n 	Recoil management\n 	Natural point of aim\n 	Learn/refine the draw\n 	Front sight vs. hard target focus\n 	Iron sight and red dot considerations\n 	Visual acceptability / 3 sight confirmation levels\n 	Moving and shooting\n 	Efficiency vs. Speed\n 	Calling your shots\n 	Target Transitions\n 	Positional Transitions\n 	Exits and Entries\n 	Longer-range shots\, i.e. 25-yards and beyond\n\nWhat are the class’s gear requirements?\n\n 	Pistol of your choice. Make sure it is in good\, working condition\n 	Outside the waistband or IWB holster and gun belt\n 	At least three magazines. (If you are shooting a gun with less than 10-round magazines\, bring extra magazines to shoot 30 rounds per relay\, or keep ammo in your pocket and reload at the firing line as needed.)\n 	Magazine pouches so you can carry at least 2 extra magazines\n 	At least 1500 rounds of your caliber ammunition\n 	Eye and ear protection\n 	Comfortable shoes. Most of the day we will be on our feet.\n 	Sunscreen\, a portable chair\, and a hat (Optional\, but we will spend all day in the sun.)\n 	Drinks\, snacks\, and food.\n\nCan anyone attend the class?\nStudents must know how to operate their pistols and safely manipulate their firearms. This is NOT a class for brand new shooters; it is meant for beginner to advanced shooters.\n\nStudents must be at least 21 years old\, or 18+ with a guardian\, and due to the Department of State ITAR regulations\, tactical training is only available to US Citizens/Legal Residents.\nWhat is your cancellation policy?\n\n 	Full refund: 61 or more days from the class\n 	Partial refund (50%): Between 31 and 60 days from the class\n 	No refund: Within 30 days of the class\n 	Credit is NOT given for missed classes\n\nCLICK HERE TO REGISTER
URL:https://elementrange.com/event/cheat-codes-of-shooting-3-day-workshop/
LOCATION:Element Training Complex
END:VEVENT
BEGIN:VEVENT
DTSTART;TZID=UTC:20250426T090000
DTEND;TZID=UTC:20250426T110000
DTSTAMP:20260422T090844
CREATED:20250311T143946Z
LAST-MODIFIED:20250311T143947Z
UID:2407-1745658000-1745665200@elementrange.com
SUMMARY:Free Concealed Carry Weapons Permit Class - US LAW SHIELD
DESCRIPTION:Concealed Carry Weapons Permit Class\nPresented by Element Training Complex & US Law Shield\n\nThis class along with live fire qualification meets and exceeds the State of Florida’s requirements for the issuance of a Concealed\nCarry Weapons Permit. This class accommodates and welcomes all skill levels from beginner to advanced. So\, please do not be\nintimidated in any way! Also\, please read this document thoroughly.\n\nDate: April 26\, 2025 Location: Element Training Complex 4418 Cooper Lane Holt\, FL 32564\n\nStart Time: Classroom instruction begins promptly at 9:00 am and will typically last 2 hours. DO NOT BRING FIREARMS INTO\nTHE CLASSROOM!\n\nLive Fire Qualification: Upon completion of the classroom portion of your class\, we will take a short break and then move to the\npistol bay. Depending on our pace and the size of the class\, live fire qualifications should be completed by 1:00 pm. Note: You\nwill be responsible for applicable day pass range fees at Element Training Complex.\n\nWhat to Bring: drivers license\, firearm\, 50 rounds of ammunition (or more if you want to continue practicing after the class)\,\npaper targets\, ear protection and eye protection. Note: Element Training Complex offers ammunition \, eye/ear protection\nand targets that can be purchased at the range.\n\nInstructor: Brenda Griffeth- USLS certified\, NRA certified\, USCCA certified\, Glock certified and USPSA certified\n\nCost: $0 for the complete course. Note: Typical CCW course fees run anywhere from $70-$150. The free course is\ncourtesy of Element Training Complex and US Law Shield and instructor Brenda Griffeth.\n\nPlease contact Element Training Complex at 850-537-4576 to confirm you are added to the registration sheet. Class size\nis limited to ensure each student enjoys the best experience possible.\n\n \n\nSIGN UP SHEET IS IN THE PRO SHOP******
URL:https://elementrange.com/event/free-concealed-carry-weapons-permit-class-us-law-shield/
LOCATION:Element Training Complex
CATEGORIES:Class,Events,Training
ORGANIZER;CN="U.S.%20Law%20Shield":MAILTO:seminars@uslawshield.com
END:VEVENT
END:VCALENDAR