BEGIN:VCALENDAR
VERSION:2.0
PRODID:-//Element Training Complex - ECPv5.10.0//NONSGML v1.0//EN
CALSCALE:GREGORIAN
METHOD:PUBLISH
X-WR-CALNAME:Element Training Complex
X-ORIGINAL-URL:https://elementrange.com
X-WR-CALDESC:Events for Element Training Complex
BEGIN:VTIMEZONE
TZID:UTC
BEGIN:STANDARD
TZOFFSETFROM:+0000
TZOFFSETTO:+0000
TZNAME:UTC
DTSTART:20240101T000000
END:STANDARD
END:VTIMEZONE
BEGIN:VEVENT
DTSTART;TZID=UTC:20240601T080000
DTEND;TZID=UTC:20240602T170000
DTSTAMP:20260422T185556
CREATED:20240121T193958Z
LAST-MODIFIED:20240121T193959Z
UID:1879-1717228800-1717347600@elementrange.com
SUMMARY:The Oaks NSCA Beat The Heat Clays Event
DESCRIPTION:The Oaks NSCA Beat The Heat Clays Event
URL:https://elementrange.com/event/the-oaks-nsca-beat-the-heat-clays-event/
LOCATION:Element Training Complex
END:VEVENT
END:VCALENDAR