BEGIN:VCALENDAR
VERSION:2.0
PRODID:-//Element Training Complex - ECPv5.10.0//NONSGML v1.0//EN
CALSCALE:GREGORIAN
METHOD:PUBLISH
X-WR-CALNAME:Element Training Complex
X-ORIGINAL-URL:https://elementrange.com
X-WR-CALDESC:Events for Element Training Complex
BEGIN:VTIMEZONE
TZID:UTC
BEGIN:STANDARD
TZOFFSETFROM:+0000
TZOFFSETTO:+0000
TZNAME:UTC
DTSTART:20250101T000000
END:STANDARD
END:VTIMEZONE
BEGIN:VEVENT
DTSTART;TZID=UTC:20250412T080000
DTEND;TZID=UTC:20250413T170000
DTSTAMP:20260422T090632
CREATED:20240924T193019Z
LAST-MODIFIED:20240924T193041Z
UID:2201-1744444800-1744563600@elementrange.com
SUMMARY:JBS Training Group - Performance Pistol
DESCRIPTION:2 Day Performance Handgun is designed with the intention of correcting flaws in mechanics\, manipulations\, marksmanship\, movement\, and processing. This is not a beginner’s course. Attendees should have basic knowledge of weapon safety/handling\, and at minimum\, be able to hit the A zone of a full-sized IPSC silhouette at 15 yards with no time standard. Students will leave with the tools necessary to continue their journey on being the best handgun shooter they can be. Cost: $550 per student (Plus any applicable range fees) If you would also like to attend the Scoped Gas Gun Clinic\, make sure to also register here. Topics Covered \n\nSafety and handling\nGear selection\nGear set up\nThe difference in operating systems and the benefits/drawbacks of each\nDry fire practice and how to maximize return when practicing\nZeroing (if applicable)\nAiming how’s and why’s of different sight pictures\nTrigger manipulation\nManaging recoil\nTarget transitions and processing\nReloading\nSingle-hand shooting and manipulation\nThe Draw\nMental Discipline Applied to the Gun\nGrip/Stance\nSpeed and where it comes from\nShot Calling\nMechanics/Manipulations\nMovement\n\nGear Required \n\nRecommended 1000 Rounds of Quality Ammunition (bring more if you want to shoot more)\nCompetition/Duty Handgun (No subcompacts/revolvers)*\nMinimum of 3 Magazines\nPouches for magazines (Preferably 2 pouches on the body)\nEye and Ear Protection (Electronic Ears Preferred)\nCompetition/Duty Grade Holster (NO FABRIC HOLSTERS ALLOWED)\nHydration and snacks for the day\nRain gear as applicable\nNotebook and writing utensil\n\n*Course may be run from concealment if student desires. In such case\, one mag pouch is sufficient and other mags can be placed in pockets\, etc. CANCELLATION // REFUND POLICY Payment must be made in full for desired training sessions. Lessons will not be refunded unless JBS Training Group needs to cancel for an unforeseen reason.   CLICK HERE TO REGISTER \n\n\n\n\n\n\n\n\n\n 
URL:https://elementrange.com/event/jbs-training-group-performance-pistol/
LOCATION:Element Training Complex
ORGANIZER;CN="JBS%20Training%20Group":MAILTO:jbstraininggroup@gmail.com
END:VEVENT
END:VCALENDAR