BEGIN:VCALENDAR
VERSION:2.0
PRODID:-//Element Training Complex - ECPv5.10.0//NONSGML v1.0//EN
CALSCALE:GREGORIAN
METHOD:PUBLISH
X-WR-CALNAME:Element Training Complex
X-ORIGINAL-URL:https://elementrange.com
X-WR-CALDESC:Events for Element Training Complex
BEGIN:VTIMEZONE
TZID:UTC
BEGIN:STANDARD
TZOFFSETFROM:+0000
TZOFFSETTO:+0000
TZNAME:UTC
DTSTART:20250101T000000
END:STANDARD
END:VTIMEZONE
BEGIN:VEVENT
DTSTART;TZID=UTC:20250112T173000
DTEND;TZID=UTC:20250112T234500
DTSTAMP:20260421T043953
CREATED:20241205T181803Z
LAST-MODIFIED:20241205T181804Z
UID:2283-1736703000-1736725500@elementrange.com
SUMMARY:BARREL & HATCHET Ghost Fighter NVG BRAVO
DESCRIPTION:The completion of the GHOST FIGHTER NVG ALPHA course is required to enroll in GHOST FIGHTER NVG BRAVO.\nCourse Bravo Description: \nThe Barrel & Hatchet GHOST Fighter Night Vision course B will focus on weapons and utilizing overt/ passive techniques for shooting at night. Students will also learn how to travel and shoot as a team as well as establish communication techniques for effective engagement of tgts at further distances. Students will utilize IR marking devices to build situational awareness and operate under safe and controlled conditions. Drills and practicals will focus on strong basic fundamentals in marksmanship and reloading from gear. Challenges will be presented to the group to be completed as a team and will exercise critical thinking\, communication and passive marking techniques. Students will also be exposed to shooting at distance and experience the limitations and strengths of identifying and engaging TGT’s.\nItems covered in this course:\n\n 	Foundational Firearms marksmanship\n 	Passive and Overt Aiming Techniques\n 	Communication techniques\n 	IR Signaling\n 	Team TGT engagement practicals\n 	Team movement\n 	Distance TGT identification/ movement\n\nRequired Equipment:\n\n 	Night Vision Goggles\n 	Wilcox mount/ RHINO arm\n 	IR Strobe\n 	Helmet Ballistic or bump\n 	Ear protection\n 	Eye protection Clear lenses\n 	Rifle with accessory rail\, 12 o clock position of rail must have the ability to allow top mounted devices for IR lasers and optics\n 	IR Laser\, IR flood\, Weapons White Light\n 	Flash Hider style muzzle device or suppressor. No Muzzle brakes due to excessive flash unless used with a suppressor\n 	NVG capable optic or red dot. NVG-capable optics will be available for rental or purchase\n 	7 Mags with personal markings for ID\n 	Gun Belt\n 	Pistol with a weapon mounted light\, preferred with Red Dot\n 	3 Pistol Mags with personal markings for ID\n 	Assault Bag\n 	Duty-style holster with active retention\n 	Hydration Bladder or Nalgene/ canteen for water\n 	Spare batteries for lights lasers optics and night devices\n 	Rifle ammo carrier\, Chest rig or Plate carrier\n 	Long Pants\, closed-toe shoes\, preferably boots\, hiking shoes\n 	Notebook/ Pen\n 	Headlamp preferred with red lenses\n 	Handheld White Light\n 	IFAK W/ 2x TQ’s\n\n \nOptional Items\n\n 	Bug Spray\n 	Snacks\n 	Camera\n 	Gloves\n 	Extra mags\n 	Knee pads\n 	Basic Tools for Maintenance\n\n \nIMPORTANT NOTE:  \nThe GHOST Fighter Night Vision Courses Alpha will be scheduled as a single-day or two-day class in conjunction with the Bravo course. In order for the Bravo course to be scheduled stand-alone it MUST be attended by students who have completed the GHOST Fighter Alpha course. This course is NOT meant for new shooters. It is expected for students to have an extremely strong foundation in the basic fundamentals of pistol and rifle skills and extremely competent safety practices. Failure to demonstrate these skills is grounds for immediate removal from the course and NON REFUNDABLE. \nRental Equipment “Try Before you Buy” \nWe understand that Night Vision equipment is an extremely costly and heavy investment\, which is why we will have several rental units available for students to rent and use for the course. This program is made possible by our partnership with ADVANCED NIGHT VISION LLC. If you like the unit you are renting and would like to purchase the Night Vision Device\, you can purchase that unit during the training event and the cost of the rental cost will be deducted from your unit price. This is what will be included within your rental package: \n \n\n\n 	GHOST Fighter Package – $ 189\n 	\n\n 	PVS 14 Night Vision Monocular w/ RHINO arm\n 	Team Wendy Bump Helmet\n 	AR15 Upper with IR Laser\, IR Flood\, White Light\n\n\n 	PVS14 with RHINO Arm $160\n 	Vortex SPARC red dot on 1.93 riser $ 40\n 	IR Laser w/ IR Flood $ 80\n\n \n\n\nProhibited equipment:\n\n 	\nWar Sport LVOA-C\, LVOA-S and LVOA-SP models are not allowed due to excessive muzzle flash that can damage night vision equipment. \n\n 	\nLantac Dragon muzzle devices are not allowed due to excessive muzzle flash that can damage night vision equipment. \n\n 	\nSmooth rail/handguard rifles-due to the need to attach accessories\, traditional handguards will not function in this course. \n\n 	\nReloaded Ammunition is not allowed for use due to increased difficulty in diagnosing atypical malfunctions under night vision use. \n\n 	\n*In general\, Compensator and Brake style muzzle devices are designed to maximize reduction in felt recoil\, allowing a flatter shooting rifle\, however these devices in general produce more visible muzzle flash and more felt concussive force near the shooter.  Because of these factors\, students are strongly encouraged to use flash hiders and/or suppressors to minimize muzzle signature and prevent partner/team disruption in close proximity. \n\n\n\n\nTicket Information\n\n\n\n\n\n\n\nGhost Fighter NVG BRAVO – 1/12/25\n$270.00\n\n\n\n\n\n\n\nCLICK HERE TO REGISTER
URL:https://elementrange.com/event/barrel-hatchet-ghost-fighter-nvg-bravo/
LOCATION:Element Training Complex
END:VEVENT
END:VCALENDAR