BEGIN:VCALENDAR
VERSION:2.0
PRODID:-//Element Training Complex - ECPv5.10.0//NONSGML v1.0//EN
CALSCALE:GREGORIAN
METHOD:PUBLISH
X-WR-CALNAME:Element Training Complex
X-ORIGINAL-URL:https://elementrange.com
X-WR-CALDESC:Events for Element Training Complex
BEGIN:VTIMEZONE
TZID:UTC
BEGIN:STANDARD
TZOFFSETFROM:+0000
TZOFFSETTO:+0000
TZNAME:UTC
DTSTART:20240101T000000
END:STANDARD
END:VTIMEZONE
BEGIN:VEVENT
DTSTART;TZID=UTC:20241214T083000
DTEND;TZID=UTC:20241214T133000
DTSTAMP:20260421T081746
CREATED:20240911T162314Z
LAST-MODIFIED:20240911T162315Z
UID:2126-1734165000-1734183000@elementrange.com
SUMMARY:Womens Intro to Pistol - The Valkyrie Tribe
DESCRIPTION:Womens Intro to Pistol W/ Live Fire\n\n\n$400.00\n\n\n\n\nWhen: December 14\, 2024 \nWhere: Element Training Complex in Holt\, FL \nTime: 8:30am – 1:30pm \n \nWhether you are a new gun owner\, just go your Concealed Carry Permit or want to be more confident handling your pistol\, this is for you. This class is everything you need to know BEFORE you go shooting.
URL:https://elementrange.com/event/womens-intro-to-pistol-the-valkyrie-tribe/
END:VEVENT
BEGIN:VEVENT
DTSTART;TZID=UTC:20241214T143000
DTEND;TZID=UTC:20241214T160000
DTSTAMP:20260421T081746
CREATED:20241119T142241Z
LAST-MODIFIED:20241119T142241Z
UID:2246-1734186600-1734192000@elementrange.com
SUMMARY:U.S. Law Shield Situational Awareness And Defending Yourself
DESCRIPTION:Situational Awareness And Defending Yourself\n \n\nUnderstanding and assessing your surroundings in almost any situation could be essential to your safety-and even to your survival.\n\n \n\nRegister for this training to learn:\n\n \n\n 	How to read your environment for a potential threat\n 	Assessing your options for personal safety\n 	Reacting effectively and efficiently\n\nHosted by US LawShield instructors.  The workshop is free for all US LawShield members and registration for non-US LawShield members is $5.”\n\n \n\nCLICK HERE TO REGISTER\n\n \n\n 
URL:https://elementrange.com/event/u-s-law-shield-situational-awareness-and-defending-yourself/
LOCATION:Element Training Complex
ORGANIZER;CN="U.S.%20Law%20Shield":MAILTO:seminars@uslawshield.com
END:VEVENT
END:VCALENDAR