BEGIN:VCALENDAR
VERSION:2.0
PRODID:-//Element Training Complex - ECPv5.10.0//NONSGML v1.0//EN
CALSCALE:GREGORIAN
METHOD:PUBLISH
X-WR-CALNAME:Element Training Complex
X-ORIGINAL-URL:https://elementrange.com
X-WR-CALDESC:Events for Element Training Complex
BEGIN:VTIMEZONE
TZID:UTC
BEGIN:STANDARD
TZOFFSETFROM:+0000
TZOFFSETTO:+0000
TZNAME:UTC
DTSTART:20220101T000000
END:STANDARD
END:VTIMEZONE
BEGIN:VEVENT
DTSTART;TZID=UTC:20221105T080000
DTEND;TZID=UTC:20221105T170000
DTSTAMP:20260423T023757
CREATED:20220926T003340Z
LAST-MODIFIED:20220926T003341Z
UID:1376-1667635200-1667667600@elementrange.com
SUMMARY:The Oaks Club Champ shoot
DESCRIPTION:
URL:https://elementrange.com/event/the-oaks-club-champ-shoot/
LOCATION:Element Training Complex
CATEGORIES:Events,Matches,Sporting Clays
END:VEVENT
END:VCALENDAR